BEGIN:VCALENDAR
VERSION:2.0
PRODID:-// - ECPv6.15.20//NONSGML v1.0//EN
CALSCALE:GREGORIAN
METHOD:PUBLISH
X-ORIGINAL-URL:https://shedstl.org
X-WR-CALDESC:Events for 
REFRESH-INTERVAL;VALUE=DURATION:PT1H
X-Robots-Tag:noindex
X-PUBLISHED-TTL:PT1H
BEGIN:VTIMEZONE
TZID:America/New_York
BEGIN:DAYLIGHT
TZOFFSETFROM:-0500
TZOFFSETTO:-0400
TZNAME:EDT
DTSTART:20250309T070000
END:DAYLIGHT
BEGIN:STANDARD
TZOFFSETFROM:-0400
TZOFFSETTO:-0500
TZNAME:EST
DTSTART:20251102T060000
END:STANDARD
BEGIN:DAYLIGHT
TZOFFSETFROM:-0500
TZOFFSETTO:-0400
TZNAME:EDT
DTSTART:20260308T070000
END:DAYLIGHT
BEGIN:STANDARD
TZOFFSETFROM:-0400
TZOFFSETTO:-0500
TZNAME:EST
DTSTART:20261101T060000
END:STANDARD
BEGIN:DAYLIGHT
TZOFFSETFROM:-0500
TZOFFSETTO:-0400
TZNAME:EDT
DTSTART:20270314T070000
END:DAYLIGHT
BEGIN:STANDARD
TZOFFSETFROM:-0400
TZOFFSETTO:-0500
TZNAME:EST
DTSTART:20271107T060000
END:STANDARD
END:VTIMEZONE
BEGIN:VEVENT
DTSTART;TZID=America/New_York:20260226T180000
DTEND;TZID=America/New_York:20260226T193000
DTSTAMP:20260420T025931
CREATED:20260218T163719Z
LAST-MODIFIED:20260218T164132Z
UID:8536-1772128800-1772134200@shedstl.org
SUMMARY:Home Ownership Webinar: Leveraging Your Home's Equity For Repairs or Remodeling
DESCRIPTION:Thinking about making improvements to your home? Wondering how to pay for them without breaking the bank? If so\, don’t miss the first installment of this year’s Home Ownership webinar series\, ‘Leveraging Your Home’s Equity For Repairs or Remodeling\,’ next Thursday\, February 26th\, from 6:00 to 7:30 pm on Zoom. \nDuring this free\, interactive session\, a lending expert from U.S. Bank will break down the key differences between home improvement loans and home equity lines of credit (HELOCs)\, explain current rates and qualification requirements\, and highlight programs designed to support lower-income homeowners or those with modest home values. \nRegister here to reserve your spot and gain the knowledge you need to make informed\, confident decisions about your home repairs.
URL:https://shedstl.org/event/home-ownership-education-series-leveraging-your-homes-equity-for-repairs-or-remodeling/
LOCATION:On Zoom
CATEGORIES:Home Ownership Education Series
ORGANIZER;CN="SHED":MAILTO:info@shedstl.org
END:VEVENT
END:VCALENDAR